BEGIN:VCALENDAR
VERSION:2.0
PRODID:-//弘前大学被ばく医療連携推進機構 - ECPv6.10.3//NONSGML v1.0//EN
CALSCALE:GREGORIAN
METHOD:PUBLISH
X-WR-CALNAME:弘前大学被ばく医療連携推進機構
X-ORIGINAL-URL:https://remcp.hirosaki-u.ac.jp
X-WR-CALDESC:弘前大学被ばく医療連携推進機構 のイベント
REFRESH-INTERVAL;VALUE=DURATION:PT1H
X-Robots-Tag:noindex
X-PUBLISHED-TTL:PT1H
BEGIN:VTIMEZONE
TZID:Asia/Tokyo
BEGIN:STANDARD
TZOFFSETFROM:+0900
TZOFFSETTO:+0900
TZNAME:JST
DTSTART:20240101T000000
END:STANDARD
END:VTIMEZONE
BEGIN:VEVENT
DTSTART;VALUE=DATE:20240521
DTEND;VALUE=DATE:20240524
DTSTAMP:20260426T105149
CREATED:20240508T055818Z
LAST-MODIFIED:20240508T062753Z
UID:10877-1716249600-1716508799@remcp.hirosaki-u.ac.jp
SUMMARY:中核人材研修　量研　令和６年度　第２回　
DESCRIPTION:令和６年度　第２回　原子力災害医療中核人材研修（量研）\n募集要項，お申し込みは↓ \n被ばく医療研修ポータルサイト \n＊募集開始するとポータルサイトに表示されます。
URL:https://remcp.hirosaki-u.ac.jp/event/%e9%87%8f%e7%a0%94%e3%80%80%e4%bb%a4%e5%92%8c%ef%bc%96%e5%b9%b4%e5%ba%a6%e3%80%80%e7%ac%ac%ef%bc%92%e5%9b%9e%e3%80%80%e4%b8%ad%e6%a0%b8%e4%ba%ba%e6%9d%90%e7%a0%94%e4%bf%ae/
CATEGORIES:中核人材研修,専門研修
END:VEVENT
END:VCALENDAR